
BEGIN:VCALENDAR
PRODID:-//Feedo Feed//NONSGML v1.0//EN
VERSION:2.0
CALSCALE:GREGORIAN
METHOD:PUBLISH
X-WR-CALNAME:Seminar om solceller - ZenN
X-WR-CALDESC:Program:\n\n09.45 – 10.00 Registrering og kaffe\n\n10.00 – 10.20 Velkommen. Administrerende direktør Per Morten Johansen, Omsorgsbygg\n10.20 – 10.40 nearly Zero energy Neighborhoods (ZenN). Lene Lad Johansen og Flemming Idsøe, Omsorgsbygg\n10.40 – 11.10 Solcelleanlegget på Økern sykehjem, status og muligheter. Thor Christian Tuv, FUSen\n11.10 – 12.00 Solcelleprosjekt Campus Evenstad, Statsbygg\n12.00 – 13.00 Lunsj\n13.00 – 13.20 ZEB Living LAB: architectural integration of PV and ZEB balance. Luca Finocchiaro, NTNU\n13.20 – 13.40 – Rammebetingelser for solenergi. Generalsekretær Åse Lekang Sørensen, Norsk solenergiforening\n13.40 – 14.00 Oppsummering og avslutning\nPåmelding til: Lene Lad Johansen innen 11. november. Gi beskjed dersom det er noen allergier eller andre hensyn i forbindelse med lunsj.\n 
X-MS-OLK-FORCEINSPECTOROPEN:TRUE
BEGIN:VEVENT
DTSTAMP:20260422T144129Z
DTSTART:20131118T094500Z
DTEND:20131118T140000Z
TRANSP:TRANSPARENT
UID:362013-11-18
SUMMARY:Seminar om solceller - ZenN
DESCRIPTION:Program:\n\n09.45 – 10.00 Registrering og kaffe\n\n10.00 – 10.20 Velkommen. Administrerende direktør Per Morten Johansen, Omsorgsbygg\n10.20 – 10.40 nearly Zero energy Neighborhoods (ZenN). Lene Lad Johansen og Flemming Idsøe, Omsorgsbygg\n10.40 – 11.10 Solcelleanlegget på Økern sykehjem, status og muligheter. Thor Christian Tuv, FUSen\n11.10 – 12.00 Solcelleprosjekt Campus Evenstad, Statsbygg\n12.00 – 13.00 Lunsj\n13.00 – 13.20 ZEB Living LAB: architectural integration of PV and ZEB balance. Luca Finocchiaro, NTNU\n13.20 – 13.40 – Rammebetingelser for solenergi. Generalsekretær Åse Lekang Sørensen, Norsk solenergiforening\n13.40 – 14.00 Oppsummering og avslutning\nPåmelding til: Lene Lad Johansen innen 11. november. Gi beskjed dersom det er noen allergier eller andre hensyn i forbindelse med lunsj.\n 
URL:http://www.zeb.no/index.php/en/news-and-events/events/seminar-om-solceller-zenn?format=html
CATEGORIES:Events
GEO:59.9152494;10.719611299999996
LOCATION:Omsorgsbygg
END:VEVENT
END:VCALENDAR